BEGIN:VCALENDAR
VERSION:2.0
METHOD:PUBLISH
PRODID:-//imacoda.com//SPD-Web-O-Mat//EN
CALSCALE:GREGORIAN
BEGIN:VTIMEZONE
TZID:Europe/Berlin
BEGIN:DAYLIGHT
TZOFFSETFROM:+0100
RRULE:FREQ=YEARLY;BYMONTH=3;BYDAY=-1SU
DTSTART:19810329T020000
TZNAME:MESZ
TZOFFSETTO:+0200
END:DAYLIGHT
BEGIN:STANDARD
TZOFFSETFROM:+0200
RRULE:FREQ=YEARLY;BYMONTH=10;BYDAY=-1SU
DTSTART:19961027T030000
TZNAME:MEZ
TZOFFSETTO:+0100
END:STANDARD
END:VTIMEZONE
BEGIN:VEVENT
UID:20191215T104803Z-00000499014-LULU@www.bayernspd.de
CREATED:20191215T104803Z
LAST-MODIFIED:20200114T074401Z
DTSTAMP:20200114T074401Z
TRANSP:TRANSPARENT
DTSTART;TZID=Europe/Berlin:20200126T150000
DTEND;TZID=Europe/Berlin:20200126T180000
SUMMARY:Red mit - Öffentliche Diskussion über kommunalpoitische Themen f
 ür Anzing und den Landkreis Ebersberg
LOCATION:Gemeindecafe im Bürgerhaus Högerstraße 1  in Anzing
DESCRIPTION:Termin im Web (SPD Anzing):\nhttps://spd-anzing.de/termine/?
 id=499014
END:VEVENT
END:VCALENDAR
